Felt | Verdi |
AlreadyApplied | True |
Aperture | 5.0 |
ApertureValue | 5.0 |
Artist | Andre Kragset |
BitsPerSample | 8 |
BlueHue | 0 |
BlueSaturation | 0 |
Brightness | +1 |
By-line | Andre Kragset |
CameraProfile | Adobe Standard |
ChromaticAberrationB | 0 |
ChromaticAberrationR | 0 |
CircleOfConfusion | 0.019 mm |
Clarity | +38 |
ColorComponents | 3 |
ColorMode | RGB |
ColorNoiseReduction | 25 |
ColorNoiseReductionDetail | 50 |
ColorSpace | Uncalibrated |
ColorTemperature | 6650 |
Contrast | +74 |
ConvertToGrayscale | False |
Copyright | Andre Kragset |
CopyrightNotice | Andre Kragset |
CreateDate (1) | 2010:07:31 21:41:25.52+02:00 |
CreateDate | 2010:07:31 21:41:25 |
Creator | Andre Kragset |
CropAngle | 0 |
CropBottom | 0.692718 |
CropConstrainToWarp | 1 |
CropLeft | 0.376777 |
CropRight | 0.637441 |
CropTop | 0.134991 |
CustomRendered | Normal |
DateCreated (1) | 2010:07:31 |
DateCreated | 2010:07:31 21:41:25.052 |
DateTimeOriginal | 2010:07:31 21:41:25 |
Defringe | 0 |
ExifImageHeight | 2284 |
ExifImageWidth | 1602 |
Exposure | +2.55 |
ExposureCompensation | 0 |
ExposureMode | Auto |
ExposureProgram | Shutter speed priority AE |
ExposureTime | 1/250 |
FillLight | 16 |
Firmware | 1.2.1 |
Flash | Off, Did not fire |
FlashCompensation | 0 |
FNumber | 5.0 |
FocalLength | 168.0 mm |
FocalLength35efl | 168.0 mm (35 mm equivalent: 263.8 mm) |
Format | image/jpeg |
FOV | 7.8 deg |
GrainAmount | 0 |
GreenHue | 0 |
GreenSaturation | 0 |
HasCrop | True |
HasSettings | True |
HighlightRecovery | 69 |
HueAdjustmentAqua | 0 |
HueAdjustmentBlue | 0 |
HueAdjustmentGreen | 0 |
HueAdjustmentMagenta | 0 |
HueAdjustmentOrange | 0 |
HueAdjustmentPurple | 0 |
HueAdjustmentRed | 0 |
HueAdjustmentYellow | 0 |
HyperfocalDistance | 295.02 m |
ICCProfileName | Adobe RGB (1998) |
ImageHeight | 2284 |
ImageNumber | 0 |
ImageSize | 1602x2284 |
ImageWidth | 1602 |
ISO | 1000 |
Lens | 70-300mm |
LensID (1) | 8 |
LensID | Sigma 70-300mm f/4-5.6 [APO] DG Macro |
LensInfo | 70-300mm f/? |
LensManualDistortionAmount | 0 |
LensModel | 70-300mm |
LensProfileChromaticAberrationScale | 100 |
LensProfileDistortionScale | 100 |
LensProfileEnable | 1 |
LensProfileFilename | Canon (Sigma_70-300mm_F4-5.6 APO_DG_MACRO) - RAW.lcp |
LensProfileName | Adobe (SIGMA APO 70-300mm F4-5.6 DG MACRO, Canon) |
LensProfileSetup | LensDefaults |
LensProfileVignettingScale | 100 |
LightValue | 9.3 |
LuminanceAdjustmentAqua | 0 |
LuminanceAdjustmentBlue | -34 |
LuminanceAdjustmentGreen | 0 |
LuminanceAdjustmentMagenta | 0 |
LuminanceAdjustmentOrange | -51 |
LuminanceAdjustmentPurple | 0 |
LuminanceAdjustmentRed | 0 |
LuminanceAdjustmentYellow | -41 |
LuminanceNoiseReductionContrast | 54 |
LuminanceNoiseReductionDetail | 50 |
LuminanceSmoothing | 49 |
Make | Canon |
MaxApertureValue | 4.8 |
Megapixels | 3.7 |
MeteringMode | Center-weighted average |
Model | Canon EOS 7D |
ModifyDate (1) | 2012:01:16 22:12:44+01:00 |
ModifyDate | 2012:01:16 22:12:44 |
Orientation | Horizontal (normal) |
ParametricDarks | 0 |
ParametricHighlights | 0 |
ParametricHighlightSplit | 75 |
ParametricLights | 0 |
ParametricMidtoneSplit | 50 |
ParametricShadows | 0 |
ParametricShadowSplit | 25 |
PerspectiveHorizontal | 0 |
PerspectiveRotate | 0.0 |
PerspectiveScale | 100 |
PerspectiveVertical | 0 |
PostCropVignetteAmount | 0 |
ProcessVersion | 5.7 |
ProfileDescription | Adobe RGB (1998) |
Rating | 0 |
RawFileName | _MG_4871.CR2 |
RedHue | 0 |
RedSaturation | 0 |
Rights | Andre Kragset |
Saturation | 0 |
SaturationAdjustmentAqua | 0 |
SaturationAdjustmentBlue | +53 |
SaturationAdjustmentGreen | 0 |
SaturationAdjustmentMagenta | 0 |
SaturationAdjustmentOrange | 0 |
SaturationAdjustmentPurple | 0 |
SaturationAdjustmentRed | 0 |
SaturationAdjustmentYellow | 0 |
ScaleFactor35efl | 1.6 |
SceneCaptureType | Standard |
SensitivityType | Unknown |
SerialNumber | 530517560 |
Shadows | 5 |
ShadowTint | 0 |
SharpenDetail | 25 |
SharpenEdgeMasking | 0 |
SharpenRadius | +1.0 |
Sharpness | 25 |
ShutterSpeed | 1/250 |
ShutterSpeedValue | 1/250 |
SidecarForExtension | CR2 |
Software | Adobe Photoshop CS5 Windows |
SplitToningBalance | 0 |
SplitToningHighlightHue | 0 |
SplitToningHighlightSaturation | 0 |
SplitToningShadowHue | 0 |
SplitToningShadowSaturation | 0 |
Tint | +7 |
ToneCurve | 0, 0, 32, 22, 64, 56, 128, 128, 190, 201, 255, 255 |
ToneCurveName | Custom |
URL_List | |
Version | 6.3 |
Vibrance | +5 |
VignetteAmount | 0 |
WhiteBalance (1) | Custom |
WhiteBalance | Auto |