Felt | Verdi |
AlreadyApplied | True |
Aperture | 9.0 |
ApertureValue | 9.0 |
Artist | unknown |
AutoLateralCA | 0 |
BitsPerSample | 8 |
Blacks2012 | 0 |
BlueHue | 0 |
BlueSaturation | 0 |
By-line | unknown |
CameraProfile | Embedded |
CircleOfConfusion | 0.019 mm |
Clarity2012 | +46 |
ColorComponents | 3 |
ColorNoiseReduction | 0 |
Contrast2012 | 0 |
ConvertToGrayscale | False |
CreateDate | 2012:07:18 16:08:19 |
Creator | unknown |
CreatorTool | Adobe Photoshop Lightroom 4.4 (Windows) |
CropAngle | 0 |
CropBottom | 0.933985 |
CropConstrainToWarp | 0 |
CropHeight | 709 |
CropLeft | 0.144216 |
CropRight | 0.744849 |
CropTop | 0.0978 |
CropUnit | pixels |
CropWidth | 786 |
CustomRendered | Normal |
DateCreated (1) | 2012:07:18 16:08:19 |
DateCreated | 2012:07:18 |
DateTimeOriginal | 2012:07:18 16:08:19 |
DefringeGreenAmount | 0 |
DefringeGreenHueHi | 60 |
DefringeGreenHueLo | 40 |
DefringePurpleAmount | 0 |
DefringePurpleHueHi | 70 |
DefringePurpleHueLo | 30 |
ExifImageHeight | 709 |
ExifImageWidth | 786 |
Exposure2012 | +0.59 |
ExposureCompensation | -2/3 |
ExposureMode | Auto |
ExposureProgram | Shutter speed priority AE |
ExposureTime | 1/250 |
Firmware | 2.0.3 |
Flash | Off, Did not fire |
FlashCompensation | 0 |
FNumber | 9.0 |
FocalLength | 24.0 mm |
FocalLength35efl | 24.0 mm (35 mm equivalent: 38.4 mm) |
Format | image/jpeg |
FOV | 50.2 deg |
GrainAmount | 0 |
GreenHue | 0 |
GreenSaturation | 0 |
HasCrop | True |
HasSettings | True |
Highlights2012 | -100 |
HueAdjustmentAqua | 0 |
HueAdjustmentBlue | 0 |
HueAdjustmentGreen | 0 |
HueAdjustmentMagenta | 0 |
HueAdjustmentOrange | 0 |
HueAdjustmentPurple | 0 |
HueAdjustmentRed | 0 |
HueAdjustmentYellow | 0 |
HyperfocalDistance | 3.41 m |
ImageHeight | 709 |
ImageNumber | 216 |
ImageSize | 786x709 |
ImageWidth | 786 |
IncrementalTemperature | 0 |
IncrementalTint | 0 |
ISO | 100 |
Lens | 10.0-50.0 mm |
LensInfo | 10-50mm f/? |
LensManualDistortionAmount | 0 |
LensModel | 10.0-50.0 mm |
LensProfileEnable | 0 |
LensProfileSetup | LensDefaults |
LightValue | 14.3 |
LuminanceAdjustmentAqua | 0 |
LuminanceAdjustmentBlue | 0 |
LuminanceAdjustmentGreen | 0 |
LuminanceAdjustmentMagenta | 0 |
LuminanceAdjustmentOrange | 0 |
LuminanceAdjustmentPurple | 0 |
LuminanceAdjustmentRed | 0 |
LuminanceAdjustmentYellow | 0 |
LuminanceNoiseReductionContrast | 48 |
LuminanceNoiseReductionDetail | 50 |
LuminanceSmoothing | 53 |
Make | Canon |
Megapixels | 0.557 |
MeteringMode | Multi-segment |
Model | Canon EOS 20D |
ModifyDate (1) | 2014:05:23 00:49:29+02:00 |
ModifyDate | 2014:05:23 00:49:29 |
OwnerName | unknown |
ParametricDarks | +32 |
ParametricHighlights | +49 |
ParametricHighlightSplit | 75 |
ParametricLights | -8 |
ParametricMidtoneSplit | 50 |
ParametricShadows | -6 |
ParametricShadowSplit | 25 |
PerspectiveHorizontal | 0 |
PerspectiveRotate | 0.0 |
PerspectiveScale | 100 |
PerspectiveVertical | 0 |
PostCropVignetteAmount | 0 |
ProcessVersion | 6.7 |
RedHue | 0 |
RedSaturation | 0 |
RelatedImageHeight | 709 |
RelatedImageWidth | 786 |
Saturation | +10 |
SaturationAdjustmentAqua | 0 |
SaturationAdjustmentBlue | 0 |
SaturationAdjustmentGreen | 0 |
SaturationAdjustmentMagenta | 0 |
SaturationAdjustmentOrange | 0 |
SaturationAdjustmentPurple | 0 |
SaturationAdjustmentRed | 0 |
SaturationAdjustmentYellow | 0 |
ScaleFactor35efl | 1.6 |
SceneCaptureType | Standard |
SerialNumber | 1130622658 |
Shadows2012 | 0 |
ShadowTint | 0 |
SharpenDetail | 37 |
SharpenEdgeMasking | 0 |
SharpenRadius | +1.3 |
Sharpness | 50 |
ShutterSpeed | 1/250 |
ShutterSpeedValue | 1/250 |
Software | Adobe Photoshop Lightroom 4.4 (Windows) |
SplitToningBalance | 0 |
SplitToningHighlightHue | 0 |
SplitToningHighlightSaturation | 0 |
SplitToningShadowHue | 0 |
SplitToningShadowSaturation | 0 |
ToneCurveName2012 | Linear |
ToneCurvePV2012 | 0, 0, 255, 255 |
ToneCurvePV2012Blue | 0, 0, 255, 255 |
ToneCurvePV2012Green | 0, 0, 255, 255 |
ToneCurvePV2012Red | 0, 0, 255, 255 |
Version | 7.4 |
Vibrance | -85 |
VignetteAmount | 0 |
WhiteBalance (1) | As Shot |
WhiteBalance | Auto |
Whites2012 | -35 |